BEGIN:VCALENDAR
VERSION:2.0
PRODID:-//TOB CLE - ECPv6.15.17.1//NONSGML v1.0//EN
CALSCALE:GREGORIAN
METHOD:PUBLISH
X-WR-CALNAME:TOB CLE
X-ORIGINAL-URL:https://tobcle.org
X-WR-CALDESC:Events for TOB CLE
REFRESH-INTERVAL;VALUE=DURATION:PT1H
X-Robots-Tag:noindex
X-PUBLISHED-TTL:PT1H
BEGIN:VTIMEZONE
TZID:America/Kentucky/Louisville
BEGIN:DAYLIGHT
TZOFFSETFROM:-0500
TZOFFSETTO:-0400
TZNAME:EDT
DTSTART:20250309T070000
END:DAYLIGHT
BEGIN:STANDARD
TZOFFSETFROM:-0400
TZOFFSETTO:-0500
TZNAME:EST
DTSTART:20251102T060000
END:STANDARD
BEGIN:DAYLIGHT
TZOFFSETFROM:-0500
TZOFFSETTO:-0400
TZNAME:EDT
DTSTART:20260308T070000
END:DAYLIGHT
BEGIN:STANDARD
TZOFFSETFROM:-0400
TZOFFSETTO:-0500
TZNAME:EST
DTSTART:20261101T060000
END:STANDARD
BEGIN:DAYLIGHT
TZOFFSETFROM:-0500
TZOFFSETTO:-0400
TZNAME:EDT
DTSTART:20270314T070000
END:DAYLIGHT
BEGIN:STANDARD
TZOFFSETFROM:-0400
TZOFFSETTO:-0500
TZNAME:EST
DTSTART:20271107T060000
END:STANDARD
END:VTIMEZONE
BEGIN:VEVENT
DTSTART;VALUE=DATE:20260408
DTEND;VALUE=DATE:20260528
DTSTAMP:20260423T043314
CREATED:20260317T151020Z
LAST-MODIFIED:20260327T145920Z
UID:10000036-1775606400-1779926399@tobcle.org
SUMMARY:Book Study: When You Pray
DESCRIPTION:Join us for this 8-week book study and video series\, led by TOB CLE’s Jen Ricard. \n\n9:30am-11am starting Wednesday\, April 8th \n$35/ticket includes a copy of the book and accompanying workbook
URL:https://tobcle.org/event/when-you-pray/
LOCATION:Immaculate Heart of Mary\, 1905 Portage Trail\, Cuyahoga Falls\, OH\, 44223
ATTACH;FMTTYPE=image/png:https://tobcle.org/wp-content/uploads/2026/03/when-you-pray.png
END:VEVENT
BEGIN:VEVENT
DTSTART;VALUE=DATE:20260415
DTEND;VALUE=DATE:20260521
DTSTAMP:20260423T043314
CREATED:20260312T132941Z
LAST-MODIFIED:20260413T131630Z
UID:10000035-1776211200-1779321599@tobcle.org
SUMMARY:Book Study: The Good\, The Messy\, and the Beautiful
DESCRIPTION:A 5-week book study for married and engaged couples. \nMultiple Locations available. \nSt. Mary\, Avon – Wednesdays from 7pm-8:30pm starting April 15th – led by Maria Wancata. \nSt. Basil the Great\, Brecksville – Mondays from 7pm-8:30pm starting April 20th – Led by Bill and Tanis Merimee. \nSt. Mary\, Hudson – Thursdays from 7pm-8:30pm starting April 23rd (skips May 21st) – Led by Jen and Frank Ricard. \nBabysitting options available. If you need childcare assistance\, reach out at rlewis@tobcle.org. \nTicketing Options: \n$40 package includes two tickets and one book \n$55 package includes two tickets and two books
URL:https://tobcle.org/event/the-good-the-messy-and-the-beautiful/
LOCATION:Multiple Locations Available
ATTACH;FMTTYPE=image/png:https://tobcle.org/wp-content/uploads/2026/03/website-thumbnails-2.png
END:VEVENT
END:VCALENDAR